BEGIN:VCALENDAR
VERSION:2.0
PRODID:-//ChamberMaster//Event Calendar 2.0//EN
METHOD:PUBLISH
X-PUBLISHED-TTL:P1H
REFRESH-INTERVAL:P1H
CALSCALE:GREGORIAN
BEGIN:VTIMEZONE
TZID:America/New_York
BEGIN:DAYLIGHT
RRULE:FREQ=YEARLY;BYMONTH=3;BYDAY=2SU
DTSTART:20070101T000000
TZOFFSETFROM:-0500
TZOFFSETTO:-0400
TZNAME:Eastern Daylight Time
END:DAYLIGHT
BEGIN:STANDARD
RRULE:FREQ=YEARLY;BYMONTH=11;BYDAY=1SU
DTSTART:20070101T000000
TZOFFSETFROM:-0400
TZOFFSETTO:-0500
TZNAME:Eastern Standard Time
END:STANDARD
END:VTIMEZONE
BEGIN:VEVENT
DTSTART;TZID=America/New_York:20260430T150000
DTEND;TZID=America/New_York:20260430T170000
X-MICROSOFT-CDO-ALLDAYEVENT:FALSE
SUMMARY:New Member Mixer at Madison Interiors
DESCRIPTION:Come meet one of our new members -- Madison Interiors -- as they get into the swing of things! Enjoy a golf simulator\, cornhole and raffle prizes!
X-ALT-DESC;FMTTYPE=text/html:Come meet one of our new members -- Madison Interiors -- as they get into the swing of things! Enjoy a golf simulator\, cornhole and raffle prizes!
LOCATION:2034 W. Washington Center Road Fort Wayne 46818
UID:e.3500.1428560
SEQUENCE:3
DTSTAMP:20260419T132159Z
URL:https://business.hbafortwayne.com/events/Details/new-member-mixer-at-madison-interiors-1689969?sourceTypeId=Hub
END:VEVENT
END:VCALENDAR
